BEGIN:VCALENDAR
VERSION:2.0
PRODID:-//iwf Austria - ECPv6.15.16//NONSGML v1.0//EN
CALSCALE:GREGORIAN
METHOD:PUBLISH
X-WR-CALNAME:iwf Austria
X-ORIGINAL-URL:https://iwf-austria.org
X-WR-CALDESC:Veranstaltungen für iwf Austria
REFRESH-INTERVAL;VALUE=DURATION:PT1H
X-Robots-Tag:noindex
X-PUBLISHED-TTL:PT1H
BEGIN:VTIMEZONE
TZID:Europe/Vienna
BEGIN:DAYLIGHT
TZOFFSETFROM:+0100
TZOFFSETTO:+0200
TZNAME:CEST
DTSTART:20220327T010000
END:DAYLIGHT
BEGIN:STANDARD
TZOFFSETFROM:+0200
TZOFFSETTO:+0100
TZNAME:CET
DTSTART:20221030T010000
END:STANDARD
BEGIN:DAYLIGHT
TZOFFSETFROM:+0100
TZOFFSETTO:+0200
TZNAME:CEST
DTSTART:20230326T010000
END:DAYLIGHT
BEGIN:STANDARD
TZOFFSETFROM:+0200
TZOFFSETTO:+0100
TZNAME:CET
DTSTART:20231029T010000
END:STANDARD
BEGIN:DAYLIGHT
TZOFFSETFROM:+0100
TZOFFSETTO:+0200
TZNAME:CEST
DTSTART:20240331T010000
END:DAYLIGHT
BEGIN:STANDARD
TZOFFSETFROM:+0200
TZOFFSETTO:+0100
TZNAME:CET
DTSTART:20241027T010000
END:STANDARD
END:VTIMEZONE
BEGIN:VEVENT
DTSTART;TZID=Europe/Vienna:20231121T183000
DTEND;TZID=Europe/Vienna:20231121T210000
DTSTAMP:20260423T111201
CREATED:20230731T091640Z
LAST-MODIFIED:20231103T180438Z
UID:2053-1700591400-1700600400@iwf-austria.org
SUMMARY:Jour fixe November 2023 - Chancengleichheit in der Digitalisierung - Doris Schmidauer und die IDC Mitgründerinnen
DESCRIPTION:Doris Schmidauer wird gemeinsam mit ihren Mitgründerinnen Marlies Lenglachner und Beate Winkler ihre Initiative Digitalisierung Chancengerecht (kurz: IDC) sowie die Initiative SHE goes DIGITAL vorstellen. Digitale Technologien durchdringen mittlerweile alle Lebens-\, Gesellschafts- und Wirtschaftsbereiche auf dieser Welt und bieten immens viele Chancen. Gleichzeitig droht die Gefahr\, dass bestehende Ungleichheiten in der Gesellschaft durch neue Technologien verstärkt werden. Das Ziel der IDC sowie von SHE goes DIGITAL ist\, dass Österreich die Chancen der Digitalisierung stärker nutzt und diese im Fokus auf Chancengerechtigkeit ausrichtet. Nur in einer Gesellschaft\, in der Chancengleichheit echt gelebt wird\, kann es gelingen\, wirtschaftlich miteinander erfolgreich zu sein und gleichzeitig den gesellschaftlichen Zusammenhalt auf Augenhöhe nachhaltig zu stärken. Sie berichten über Inhalt und Aktivitäten der Initiativen\, die auf eine breite Vernetzung ausgerichtet sind. \nWir machen darauf aufmerksam\, dass bei den Veranstaltungen von IWF Austria Foto- und Videoaufnahmen gemacht werden. Diese können bei Bedarf für IWF-Austria oder IWF International relevante Kommunikationsaktivitäten (Webpage\, neue Medien\, Presseinformationen etc.) zur Benutzung kommen. Mit der Anmeldung zur Veranstaltung wird die Zustimmung zur Verwendung dazu erteilt. \nWe would like to draw your attention to the fact that photographs and video recordings are made at IWF Austria events. These may be used for IWF-Austria or IWF International relevant communication activities (webpage\, new media\, press releases etc.) if required. With the registration for the event\, the consent to use them is given.
URL:https://iwf-austria.org/event/jour-fixe-november-2023-tbd/
LOCATION:Skybar im UNIQA Tower\, Untere Donaustrasse 21\, Wien\, 1020\, Österreich
CATEGORIES:iwf-jour-fixe
ATTACH;FMTTYPE=image/png:https://iwf-austria.org/wp-content/uploads/2023/07/20231121_Schmidauer_IDC-2.png
END:VEVENT
END:VCALENDAR